BEGIN:VCALENDAR
VERSION:2.0
PRODID:-//PaintBox Art Studio - ECPv5.10.0//NONSGML v1.0//EN
CALSCALE:GREGORIAN
METHOD:PUBLISH
X-WR-CALNAME:PaintBox Art Studio
X-ORIGINAL-URL:http://paintboxartstudio.com
X-WR-CALDESC:Events for PaintBox Art Studio
BEGIN:VTIMEZONE
TZID:America/Los_Angeles
BEGIN:DAYLIGHT
TZOFFSETFROM:-0800
TZOFFSETTO:-0700
TZNAME:PDT
DTSTART:20180311T100000
END:DAYLIGHT
BEGIN:STANDARD
TZOFFSETFROM:-0700
TZOFFSETTO:-0800
TZNAME:PST
DTSTART:20181104T090000
END:STANDARD
END:VTIMEZONE
BEGIN:VEVENT
DTSTART;TZID=America/Los_Angeles:20181205T130000
DTEND;TZID=America/Los_Angeles:20181205T150000
DTSTAMP:20260425T043342
CREATED:20171022T215630Z
LAST-MODIFIED:20171022T215630Z
UID:7186-1544014800-1544022000@paintboxartstudio.com
SUMMARY:Wednesday Half Day
DESCRIPTION:Wednesday Half Day \nAges 6-12 yrs \n\nIt’s sew time! Join us for a 1 hour and 45 minute class where we will learn the basics and more!\nWe will start with machine threading and function and move from set projects to individual projects.\nWe will also explore hand sewing and embroidery and pattern making and following. \n\n    Purchase »
URL:http://paintboxartstudio.com/event/wednesday-half-day-13/
LOCATION:Paint Box Art Studio\, 1101 Washington Place\, San Diego\, CA\, 92103\, United States
CATEGORIES:After School,Availability - Booking,Calendar,Classes,Events,Sewing
ATTACH;FMTTYPE=image/png:http://paintboxartstudio.com/wp-content/uploads/2017/10/web_pdp_1x_6796db8e-671e-4ffa-a4ae-387ca6ae79ee.png
ORGANIZER;CN="Ms.Jaimee":MAILTO:jaimeee at paintboxartstudio.com
END:VEVENT
END:VCALENDAR