BEGIN:VCALENDAR
VERSION:2.0
PRODID:-//PaintBox Art Studio - ECPv5.10.0//NONSGML v1.0//EN
CALSCALE:GREGORIAN
METHOD:PUBLISH
X-WR-CALNAME:PaintBox Art Studio
X-ORIGINAL-URL:http://paintboxartstudio.com
X-WR-CALDESC:Events for PaintBox Art Studio
BEGIN:VTIMEZONE
TZID:America/Los_Angeles
BEGIN:DAYLIGHT
TZOFFSETFROM:-0800
TZOFFSETTO:-0700
TZNAME:PDT
DTSTART:20190310T100000
END:DAYLIGHT
BEGIN:STANDARD
TZOFFSETFROM:-0700
TZOFFSETTO:-0800
TZNAME:PST
DTSTART:20191103T090000
END:STANDARD
END:VTIMEZONE
BEGIN:VEVENT
DTSTART;TZID=America/Los_Angeles:20191220T173000
DTEND;TZID=America/Los_Angeles:20191220T193000
DTSTAMP:20260424T111456
CREATED:20170730T043745Z
LAST-MODIFIED:20170730T043745Z
UID:8655-1576863000-1576870200@paintboxartstudio.com
SUMMARY:Paint Box Maker's Fair
DESCRIPTION:Paint Box Maker’s Fair\nAges 5 – 14 yrs \n\n\nCome and join us for this entrepreneur opportunity! We will have 10-15 tables for our talented students to sell their art or sewing products! Children are welcome to sell treats\, as well\, at their table. \n\n\n\nNotes\n\n• Kids can work on their products in class\, but will likely also have to work on them at home. Too\, if they would like a special fabric or material\, they need to provide that. \n\n    Purchase »
URL:http://paintboxartstudio.com/event/paint-box-makers-fair-5/
LOCATION:Paint Box Art Studio\, 1101 Washington Place\, San Diego\, CA\, 92103\, United States
CATEGORIES:Calendar,Classes,Events
ORGANIZER;CN="Ms.Jaimee":MAILTO:jaimeee at paintboxartstudio.com
END:VEVENT
END:VCALENDAR