BEGIN:VCALENDAR
VERSION:2.0
PRODID:-//PaintBox Art Studio - ECPv5.10.0//NONSGML v1.0//EN
CALSCALE:GREGORIAN
METHOD:PUBLISH
X-WR-CALNAME:PaintBox Art Studio
X-ORIGINAL-URL:http://paintboxartstudio.com
X-WR-CALDESC:Events for PaintBox Art Studio
BEGIN:VTIMEZONE
TZID:America/Los_Angeles
BEGIN:DAYLIGHT
TZOFFSETFROM:-0800
TZOFFSETTO:-0700
TZNAME:PDT
DTSTART:20200308T100000
END:DAYLIGHT
BEGIN:STANDARD
TZOFFSETFROM:-0700
TZOFFSETTO:-0800
TZNAME:PST
DTSTART:20201101T090000
END:STANDARD
END:VTIMEZONE
BEGIN:VEVENT
DTSTART;TZID=America/Los_Angeles:20200103T090000
DTEND;TZID=America/Los_Angeles:20200103T150000
DTSTAMP:20260423T114113
CREATED:20171022T215630Z
LAST-MODIFIED:20171022T215630Z
UID:8719-1578042000-1578063600@paintboxartstudio.com
SUMMARY:Holiday Camp
DESCRIPTION:6 – 14 yrs \n\n\n\n\nCamp. On a holiday.. sew\, art and more! \n\n\n\nNotes\n\n• Snacks are provided. Bring a lunch and water bottle. \n\n\n\n\n\n\n    Purchase »
URL:http://paintboxartstudio.com/event/holiday-camp-12/
LOCATION:Paint Box Art Studio\, 1101 Washington Place\, San Diego\, CA\, 92103\, United States
CATEGORIES:After School,Availability - Booking,Calendar,Classes,Events,Sewing
ORGANIZER;CN="Ms.Jaimee":MAILTO:jaimeee at paintboxartstudio.com
END:VEVENT
END:VCALENDAR