BEGIN:VCALENDAR
VERSION:2.0
PRODID:-//PaintBox Art Studio - ECPv5.10.0//NONSGML v1.0//EN
CALSCALE:GREGORIAN
METHOD:PUBLISH
X-WR-CALNAME:PaintBox Art Studio
X-ORIGINAL-URL:http://paintboxartstudio.com
X-WR-CALDESC:Events for PaintBox Art Studio
BEGIN:VTIMEZONE
TZID:America/Los_Angeles
BEGIN:DAYLIGHT
TZOFFSETFROM:-0800
TZOFFSETTO:-0700
TZNAME:PDT
DTSTART:20190310T100000
END:DAYLIGHT
BEGIN:STANDARD
TZOFFSETFROM:-0700
TZOFFSETTO:-0800
TZNAME:PST
DTSTART:20191103T090000
END:STANDARD
END:VTIMEZONE
BEGIN:VEVENT
DTSTART;TZID=America/Los_Angeles:20190108T120000
DTEND;TZID=America/Los_Angeles:20190108T140000
DTSTAMP:20260422T170812
CREATED:20160909T042948Z
LAST-MODIFIED:20160909T042948Z
UID:7913-1546948800-1546956000@paintboxartstudio.com
SUMMARY:Grant half day extra days
DESCRIPTION:Grant half day extra days\n6 – 14 yrs \n2 crazy hours of sew\, art etc.. wherever the wind takes us! \n\nNotes: \n• snacks provided. bring a water bottle!\n\n    Purchase »
URL:http://paintboxartstudio.com/event/grant-half-day-extra-days-2/
LOCATION:Paint Box Art Studio\, 1101 Washington Place\, San Diego\, CA\, 92103\, United States
CATEGORIES:Calendar,Events
ORGANIZER;CN="Ms.Jaimee":MAILTO:jaimeee at paintboxartstudio.com
END:VEVENT
END:VCALENDAR