BEGIN:VCALENDAR
VERSION:2.0
PRODID:-//PaintBox Art Studio - ECPv5.10.0//NONSGML v1.0//EN
CALSCALE:GREGORIAN
METHOD:PUBLISH
X-WR-CALNAME:PaintBox Art Studio
X-ORIGINAL-URL:http://paintboxartstudio.com
X-WR-CALDESC:Events for PaintBox Art Studio
BEGIN:VTIMEZONE
TZID:America/Los_Angeles
BEGIN:DAYLIGHT
TZOFFSETFROM:-0800
TZOFFSETTO:-0700
TZNAME:PDT
DTSTART:20180311T100000
END:DAYLIGHT
BEGIN:STANDARD
TZOFFSETFROM:-0700
TZOFFSETTO:-0800
TZNAME:PST
DTSTART:20181104T090000
END:STANDARD
END:VTIMEZONE
BEGIN:VEVENT
DTSTART;TZID=America/Los_Angeles:20181220T150000
DTEND;TZID=America/Los_Angeles:20181220T163000
DTSTAMP:20260424T021649
CREATED:20170807T041020Z
LAST-MODIFIED:20170807T041020Z
UID:7280-1545318000-1545323400@paintboxartstudio.com
SUMMARY:Clothing Revamp class
DESCRIPTION:Clothing Revamp class\n\nAges 8 yrs – adult\n\nLearn how to take an old shirt or dress from home or a second hand store and completely transform it into something else that you love! Each week we will have clothes on hand\, or you will be able to bring your own items from home!\n\n\n    Purchase »
URL:http://paintboxartstudio.com/event/clothing-revamp-class-15/
LOCATION:Paint Box Art Studio\, 1101 Washington Place\, San Diego\, CA\, 92103\, United States
CATEGORIES:Calendar,Classes,Events,Sewing
ORGANIZER;CN="Ms.Jaimee":MAILTO:jaimeee at paintboxartstudio.com
END:VEVENT
END:VCALENDAR