BEGIN:VCALENDAR
VERSION:2.0
PRODID:-//PaintBox Art Studio - ECPv5.10.0//NONSGML v1.0//EN
CALSCALE:GREGORIAN
METHOD:PUBLISH
X-WR-CALNAME:PaintBox Art Studio
X-ORIGINAL-URL:http://paintboxartstudio.com
X-WR-CALDESC:Events for PaintBox Art Studio
BEGIN:VTIMEZONE
TZID:America/Los_Angeles
BEGIN:DAYLIGHT
TZOFFSETFROM:-0800
TZOFFSETTO:-0700
TZNAME:PDT
DTSTART:20190310T100000
END:DAYLIGHT
BEGIN:STANDARD
TZOFFSETFROM:-0700
TZOFFSETTO:-0800
TZNAME:PST
DTSTART:20191103T090000
END:STANDARD
END:VTIMEZONE
BEGIN:VEVENT
DTSTART;TZID=America/Los_Angeles:20191230T090000
DTEND;TZID=America/Los_Angeles:20191230T150000
DTSTAMP:20260423T160646
CREATED:20171022T215630Z
LAST-MODIFIED:20171022T215630Z
UID:8716-1577696400-1577718000@paintboxartstudio.com
SUMMARY:Holiday Camp
DESCRIPTION:6 – 14 yrs \n\n\n\n\nCamp. On a holiday.. sew\, art and more! \n\n\n\nNotes\n\n• Snacks are provided. Bring a lunch and water bottle. \n\n\n\n\n\n\n    Purchase »
URL:http://paintboxartstudio.com/event/holiday-camp-9/
LOCATION:Paint Box Art Studio\, 1101 Washington Place\, San Diego\, CA\, 92103\, United States
CATEGORIES:After School,Availability - Booking,Calendar,Classes,Events,Sewing
ORGANIZER;CN="Ms.Jaimee":MAILTO:jaimeee at paintboxartstudio.com
END:VEVENT
BEGIN:VEVENT
DTSTART;TZID=America/Los_Angeles:20191230T090000
DTEND;TZID=America/Los_Angeles:20191230T120000
DTSTAMP:20260423T160646
CREATED:20171022T215630Z
LAST-MODIFIED:20171022T215630Z
UID:8725-1577696400-1577707200@paintboxartstudio.com
SUMMARY:Holiday Camp Half Days
DESCRIPTION:6 – 14 yrs \n\n\n\n\n\n\nA fun week of getting into the Holiday Spirit. Cookie decorating\, ornament making\, stockings\, presents and more. All religions and holiday celebrations welcome!\nHalf Day Schedule! \n\n\n\nNotes\n\n• Snacks are provided. Bring lunch and water bottle. \n\n\n\n\n\n\n\n\n    Purchase »
URL:http://paintboxartstudio.com/event/holiday-camp-half-days-4/
LOCATION:Paint Box Art Studio\, 1101 Washington Place\, San Diego\, CA\, 92103\, United States
CATEGORIES:After School,Availability - Booking,Calendar,Classes,Events,Sewing
ORGANIZER;CN="Ms.Jaimee":MAILTO:jaimeee at paintboxartstudio.com
END:VEVENT
END:VCALENDAR