BEGIN:VCALENDAR
VERSION:2.0
PRODID:-//PaintBox Art Studio - ECPv5.10.0//NONSGML v1.0//EN
CALSCALE:GREGORIAN
METHOD:PUBLISH
X-WR-CALNAME:PaintBox Art Studio
X-ORIGINAL-URL:http://paintboxartstudio.com
X-WR-CALDESC:Events for PaintBox Art Studio
BEGIN:VTIMEZONE
TZID:America/Los_Angeles
BEGIN:DAYLIGHT
TZOFFSETFROM:-0800
TZOFFSETTO:-0700
TZNAME:PDT
DTSTART:20190310T100000
END:DAYLIGHT
BEGIN:STANDARD
TZOFFSETFROM:-0700
TZOFFSETTO:-0800
TZNAME:PST
DTSTART:20191103T090000
END:STANDARD
END:VTIMEZONE
BEGIN:VEVENT
DTSTART;TZID=America/Los_Angeles:20190104T090000
DTEND;TZID=America/Los_Angeles:20190104T150000
DTSTAMP:20260422T222913
CREATED:20171022T215630Z
LAST-MODIFIED:20171022T215630Z
UID:7873-1546592400-1546614000@paintboxartstudio.com
SUMMARY:Holiday Sew and Art Camp
DESCRIPTION:Holiday Sew and Art Camp\n6 – 17 yrs \n\nJoin Mrs Jaimee for 3 days of sewing and art bliss! Fun projects only.\nAfternoons will always be free sew. \n\nNotes: \n• We will provide snacks. Please pack a water bottle and lunch for your child.\n\n\n    Purchase »
URL:http://paintboxartstudio.com/event/holiday-sew-and-art-camp-2/
LOCATION:Paint Box Art Studio\, 1101 Washington Place\, San Diego\, CA\, 92103\, United States
CATEGORIES:After School,Availability - Booking,Calendar,Classes,Events,Sewing
ORGANIZER;CN="Ms.Jaimee":MAILTO:jaimeee at paintboxartstudio.com
END:VEVENT
BEGIN:VEVENT
DTSTART;TZID=America/Los_Angeles:20190104T090000
DTEND;TZID=America/Los_Angeles:20190104T120000
DTSTAMP:20260422T222913
CREATED:20171022T215630Z
LAST-MODIFIED:20171022T215630Z
UID:7878-1546592400-1546603200@paintboxartstudio.com
SUMMARY:Half Day Camp
DESCRIPTION:Half Day Camp\n5 – 13 yrs \n\n\nOur regular camp but half day! Select either 9-12 or 12-3! \n\nNotes: \n• We provide snack and you bring the water bottle and lunch.\n\n\n\n    Purchase »
URL:http://paintboxartstudio.com/event/half-day-camp-2/
LOCATION:Paint Box Art Studio\, 1101 Washington Place\, San Diego\, CA\, 92103\, United States
CATEGORIES:After School,Availability - Booking,Calendar,Classes,Events,Sewing
ORGANIZER;CN="Ms.Jaimee":MAILTO:jaimeee at paintboxartstudio.com
END:VEVENT
END:VCALENDAR