BEGIN:VCALENDAR
VERSION:2.0
PRODID:-//PaintBox Art Studio - ECPv5.10.0//NONSGML v1.0//EN
CALSCALE:GREGORIAN
METHOD:PUBLISH
X-WR-CALNAME:PaintBox Art Studio
X-ORIGINAL-URL:http://paintboxartstudio.com
X-WR-CALDESC:Events for PaintBox Art Studio
BEGIN:VTIMEZONE
TZID:America/Los_Angeles
BEGIN:DAYLIGHT
TZOFFSETFROM:-0800
TZOFFSETTO:-0700
TZNAME:PDT
DTSTART:20180311T100000
END:DAYLIGHT
BEGIN:STANDARD
TZOFFSETFROM:-0700
TZOFFSETTO:-0800
TZNAME:PST
DTSTART:20181104T090000
END:STANDARD
END:VTIMEZONE
BEGIN:VEVENT
DTSTART;TZID=America/Los_Angeles:20181219T123000
DTEND;TZID=America/Los_Angeles:20181219T150000
DTSTAMP:20260424T014151
CREATED:20170730T043745Z
LAST-MODIFIED:20170730T043745Z
UID:7426-1545222600-1545231600@paintboxartstudio.com
SUMMARY:SVS Half Day Sewing
DESCRIPTION:Ages 6 – 13 yrs\n\nSVS Half Day Sewing! For those pesky SVS half days! We will pick your child up at aftercare at 12:20 and sewing class\nwill run from 12:30-2:45. We will work on individual sew projects and occasionally focus on whatever holiday is on the horizon! No discount code applies for this 2 hour class. But\, if you buy a class pack for regular classes\, you can use one of your classes for this half day.\n\n\n    Purchase »
URL:http://paintboxartstudio.com/event/svs-half-day-sewing-2/
LOCATION:Paint Box Art Studio\, 1101 Washington Place\, San Diego\, CA\, 92103\, United States
CATEGORIES:Calendar,Classes,Events
ATTACH;FMTTYPE=image/png:http://paintboxartstudio.com/wp-content/uploads/2017/10/web_pdp_1x_6796db8e-671e-4ffa-a4ae-387ca6ae79ee.png
ORGANIZER;CN="Ms.Jaimee":MAILTO:jaimeee at paintboxartstudio.com
END:VEVENT
BEGIN:VEVENT
DTSTART;TZID=America/Los_Angeles:20181219T130000
DTEND;TZID=America/Los_Angeles:20181219T150000
DTSTAMP:20260424T014151
CREATED:20171022T215630Z
LAST-MODIFIED:20171022T215630Z
UID:7188-1545224400-1545231600@paintboxartstudio.com
SUMMARY:Wednesday Half Day
DESCRIPTION:Wednesday Half Day \nAges 6-12 yrs \n\nIt’s sew time! Join us for a 1 hour and 45 minute class where we will learn the basics and more!\nWe will start with machine threading and function and move from set projects to individual projects.\nWe will also explore hand sewing and embroidery and pattern making and following. \n\n    Purchase »
URL:http://paintboxartstudio.com/event/wednesday-half-day-15/
LOCATION:Paint Box Art Studio\, 1101 Washington Place\, San Diego\, CA\, 92103\, United States
CATEGORIES:After School,Availability - Booking,Calendar,Classes,Events,Sewing
ATTACH;FMTTYPE=image/png:http://paintboxartstudio.com/wp-content/uploads/2017/10/web_pdp_1x_6796db8e-671e-4ffa-a4ae-387ca6ae79ee.png
ORGANIZER;CN="Ms.Jaimee":MAILTO:jaimeee at paintboxartstudio.com
END:VEVENT
BEGIN:VEVENT
DTSTART;TZID=America/Los_Angeles:20181219T150000
DTEND;TZID=America/Los_Angeles:20181219T160000
DTSTAMP:20260424T014151
CREATED:20170730T043058Z
LAST-MODIFIED:20170730T043058Z
UID:7206-1545231600-1545235200@paintboxartstudio.com
SUMMARY:Continuing Art
DESCRIPTION:Continuing Art \nAges 8-13 yrs \nArtists use their knowledge about mediums and techniques and apply these to individual ongoing projects. \nEach child will work on their own project side by side with their peers. \nQuarterly themes will guide these young artists as they build confidence through art. \nArtists take a step by step approach to creating their unique masterpieces and learn how to bring a concept from their mind or their lives to the canvas. Each artist’s artistic style will blossom in this workshop environment. \nThis class features quarterly art shows at the studio and participation in local contests and art showings. \nStudents will have a small introduction to sewing. \nSVS students use SVSART code at check out. \nSt. Vincent students will be walked from aftercare and returned after class. \nUse a ‘class pack’ for 12 or 20 class discount. \n\n    Purchase »
URL:http://paintboxartstudio.com/event/continuing-art-40/
LOCATION:Paint Box Art Studio\, 1101 Washington Place\, San Diego\, CA\, 92103\, United States
CATEGORIES:Calendar,Classes,Events
ATTACH;FMTTYPE=image/jpeg:http://paintboxartstudio.com/wp-content/uploads/2017/07/Continuing-Art.jpg
ORGANIZER;CN="Ms.Jaimee":MAILTO:jaimeee at paintboxartstudio.com
END:VEVENT
BEGIN:VEVENT
DTSTART;TZID=America/Los_Angeles:20181219T163000
DTEND;TZID=America/Los_Angeles:20181219T173000
DTSTAMP:20260424T014151
CREATED:20170730T031243Z
LAST-MODIFIED:20170730T031243Z
UID:7224-1545237000-1545240600@paintboxartstudio.com
SUMMARY:Sew Club: 4:30pm
DESCRIPTION:Sew Club \nAll ages will learn about sewing while making special projects. \nEach child will work on a sewing project for their skill level. \nSewers will learn machine threading and maintenance\, pattern making and creative problem solving. \nSome projects include hand embroidery and other needlework. \nProjects include: Clothes\, bags\, plush and gifts! \n7 students max in each group. \nIncludes materials. \nSVS students use discount code SVSART. \nAfterschool pickup is available from St Vincent Aftercare. \n\n\n\n    Purchase »
URL:http://paintboxartstudio.com/event/sew-club-430pm-119/
LOCATION:Paint Box Art Studio\, 1101 Washington Place\, San Diego\, CA\, 92103\, United States
CATEGORIES:Calendar,Classes,Events,Sewing
ATTACH;FMTTYPE=image/jpeg:http://paintboxartstudio.com/wp-content/uploads/2017/07/BTS.jpg
ORGANIZER;CN="Ms.Jaimee":MAILTO:jaimeee at paintboxartstudio.com
END:VEVENT
END:VCALENDAR