BEGIN:VCALENDAR
VERSION:2.0
PRODID:-//PaintBox Art Studio - ECPv5.10.0//NONSGML v1.0//EN
CALSCALE:GREGORIAN
METHOD:PUBLISH
X-WR-CALNAME:PaintBox Art Studio
X-ORIGINAL-URL:http://paintboxartstudio.com
X-WR-CALDESC:Events for PaintBox Art Studio
BEGIN:VTIMEZONE
TZID:America/Los_Angeles
BEGIN:DAYLIGHT
TZOFFSETFROM:-0800
TZOFFSETTO:-0700
TZNAME:PDT
DTSTART:20180311T100000
END:DAYLIGHT
BEGIN:STANDARD
TZOFFSETFROM:-0700
TZOFFSETTO:-0800
TZNAME:PST
DTSTART:20181104T090000
END:STANDARD
END:VTIMEZONE
BEGIN:VEVENT
DTSTART;TZID=America/Los_Angeles:20181217T150000
DTEND;TZID=America/Los_Angeles:20181217T160000
DTSTAMP:20260424T044909
CREATED:20170730T030106Z
LAST-MODIFIED:20180812T184426Z
UID:7324-1545058800-1545062400@paintboxartstudio.com
SUMMARY:Beginning Art
DESCRIPTION:Beginning Art. \nFor K to 2nd graders. \nStudents will continue their artistic education\, learning about different mediums and art movements. \nWeekly themes will guide these young artists as they build confidence through art. \nArtists take a step by step approach to creating their unique masterpieces\, as they learn how to bring an idea to the page or canvas. This class features quarterly art shows at the studio and participation in local contests and art showings. \nStudents will have a small introduction to sewing. \nSVS students use SVSART code at check out. \nSt. Vincent students will be walked from aftercare and returned after class. \nUse a ‘class pack’ for 12 or 20 class discount. \n\n    Purchase »\n  \n\n 
URL:http://paintboxartstudio.com/event/beginning-art-3/
LOCATION:Paint Box Art Studio\, 1101 Washington Place\, San Diego\, CA\, 92103\, United States
CATEGORIES:Calendar,Classes,Events
ATTACH;FMTTYPE=image/jpeg:http://paintboxartstudio.com/wp-content/uploads/2017/07/Beginning-Art.jpg
ORGANIZER;CN="Ms.Jaimee":MAILTO:jaimeee at paintboxartstudio.com
END:VEVENT
BEGIN:VEVENT
DTSTART;TZID=America/Los_Angeles:20181217T163000
DTEND;TZID=America/Los_Angeles:20181217T173000
DTSTAMP:20260424T044909
CREATED:20170730T031243Z
LAST-MODIFIED:20180812T230652Z
UID:7340-1545064200-1545067800@paintboxartstudio.com
SUMMARY:Sew Club: 4:30pm
DESCRIPTION:Sew Club \nAll ages will learn about sewing while making special projects. \nEach child will work on a sewing project for their skill level. \nSewers will learn machine threading and maintenance\, pattern making and creative problem solving. \nSome projects include hand embroidery and other needlework. \nProjects include: Clothes\, bags\, plush and gifts! \n7 students max in each group. \nIncludes materials. \nSVS students use discount code SVSART. \nAfterschool pickup is available from St Vincent Aftercare.
URL:http://paintboxartstudio.com/event/sew-club-430pm-135/
LOCATION:Paint Box Art Studio\, 1101 Washington Place\, San Diego\, CA\, 92103\, United States
CATEGORIES:Calendar,Classes,Events,Sewing
ATTACH;FMTTYPE=image/jpeg:http://paintboxartstudio.com/wp-content/uploads/2017/07/BTS.jpg
ORGANIZER;CN="Ms.Jaimee":MAILTO:jaimeee at paintboxartstudio.com
END:VEVENT
BEGIN:VEVENT
DTSTART;TZID=America/Los_Angeles:20181217T163000
DTEND;TZID=America/Los_Angeles:20181217T173000
DTSTAMP:20260424T044909
CREATED:20170730T031243Z
LAST-MODIFIED:20170730T031243Z
UID:7530-1545064200-1545067800@paintboxartstudio.com
SUMMARY:Sew Club: 4:30pm
DESCRIPTION:Sew Club \nAll ages will learn about sewing while making special projects. \nEach child will work on a sewing project for their skill level. \nSewers will learn machine threading and maintenance\, pattern making and creative problem solving. \nSome projects include hand embroidery and other needlework. \nProjects include: Clothes\, bags\, plush and gifts! \n7 students max in each group. \nIncludes materials. \nSVS students use discount code SVSART. \nAfterschool pickup is available from St Vincent Aftercare.
URL:http://paintboxartstudio.com/event/sew-club-430pm-150/
LOCATION:Paint Box Art Studio\, 1101 Washington Place\, San Diego\, CA\, 92103\, United States
CATEGORIES:Calendar,Classes,Events,Sewing
ATTACH;FMTTYPE=image/jpeg:http://paintboxartstudio.com/wp-content/uploads/2017/07/BTS.jpg
ORGANIZER;CN="Ms.Jaimee":MAILTO:jaimeee at paintboxartstudio.com
END:VEVENT
END:VCALENDAR