BEGIN:VCALENDAR
VERSION:2.0
PRODID:-//PaintBox Art Studio - ECPv5.10.0//NONSGML v1.0//EN
CALSCALE:GREGORIAN
METHOD:PUBLISH
X-WR-CALNAME:PaintBox Art Studio
X-ORIGINAL-URL:http://paintboxartstudio.com
X-WR-CALDESC:Events for PaintBox Art Studio
BEGIN:VTIMEZONE
TZID:America/Los_Angeles
BEGIN:DAYLIGHT
TZOFFSETFROM:-0800
TZOFFSETTO:-0700
TZNAME:PDT
DTSTART:20180311T100000
END:DAYLIGHT
BEGIN:STANDARD
TZOFFSETFROM:-0700
TZOFFSETTO:-0800
TZNAME:PST
DTSTART:20181104T090000
END:STANDARD
END:VTIMEZONE
BEGIN:VEVENT
DTSTART;TZID=America/Los_Angeles:20181128T120000
DTEND;TZID=America/Los_Angeles:20181128T133000
DTSTAMP:20260425T152644
CREATED:20170730T043745Z
LAST-MODIFIED:20170730T043745Z
UID:7404-1543406400-1543411800@paintboxartstudio.com
SUMMARY:Grant 1/2 Day Extra Days
DESCRIPTION:Ages 4-14 yrs \n2 crazy hours of sew\, art etc.. wherever the wind takes us! \n\n\n\n    Purchase »
URL:http://paintboxartstudio.com/event/grant-12-day-extra-days-5/
LOCATION:Paint Box Art Studio\, 1101 Washington Place\, San Diego\, CA\, 92103\, United States
CATEGORIES:Calendar,Classes,Events
ORGANIZER;CN="Ms.Jaimee":MAILTO:jaimeee at paintboxartstudio.com
END:VEVENT
BEGIN:VEVENT
DTSTART;TZID=America/Los_Angeles:20181128T130000
DTEND;TZID=America/Los_Angeles:20181128T150000
DTSTAMP:20260425T152644
CREATED:20171022T215630Z
LAST-MODIFIED:20171022T215630Z
UID:7185-1543410000-1543417200@paintboxartstudio.com
SUMMARY:Wednesday Half Day
DESCRIPTION:Wednesday Half Day \nAges 6-12 yrs \n\nIt’s sew time! Join us for a 1 hour and 45 minute class where we will learn the basics and more!\nWe will start with machine threading and function and move from set projects to individual projects.\nWe will also explore hand sewing and embroidery and pattern making and following. \n\n    Purchase »
URL:http://paintboxartstudio.com/event/wednesday-half-day-12/
LOCATION:Paint Box Art Studio\, 1101 Washington Place\, San Diego\, CA\, 92103\, United States
CATEGORIES:After School,Availability - Booking,Calendar,Classes,Events,Sewing
ATTACH;FMTTYPE=image/png:http://paintboxartstudio.com/wp-content/uploads/2017/10/web_pdp_1x_6796db8e-671e-4ffa-a4ae-387ca6ae79ee.png
ORGANIZER;CN="Ms.Jaimee":MAILTO:jaimeee at paintboxartstudio.com
END:VEVENT
BEGIN:VEVENT
DTSTART;TZID=America/Los_Angeles:20181128T150000
DTEND;TZID=America/Los_Angeles:20181128T160000
DTSTAMP:20260425T152644
CREATED:20170730T043058Z
LAST-MODIFIED:20170730T043058Z
UID:7203-1543417200-1543420800@paintboxartstudio.com
SUMMARY:Continuing Art
DESCRIPTION:Continuing Art \nAges 8-13 yrs \nArtists use their knowledge about mediums and techniques and apply these to individual ongoing projects. \nEach child will work on their own project side by side with their peers. \nQuarterly themes will guide these young artists as they build confidence through art. \nArtists take a step by step approach to creating their unique masterpieces and learn how to bring a concept from their mind or their lives to the canvas. Each artist’s artistic style will blossom in this workshop environment. \nThis class features quarterly art shows at the studio and participation in local contests and art showings. \nStudents will have a small introduction to sewing. \nSVS students use SVSART code at check out. \nSt. Vincent students will be walked from aftercare and returned after class. \nUse a ‘class pack’ for 12 or 20 class discount. \n\n    Purchase »
URL:http://paintboxartstudio.com/event/continuing-art-37/
LOCATION:Paint Box Art Studio\, 1101 Washington Place\, San Diego\, CA\, 92103\, United States
CATEGORIES:Calendar,Classes,Events
ATTACH;FMTTYPE=image/jpeg:http://paintboxartstudio.com/wp-content/uploads/2017/07/Continuing-Art.jpg
ORGANIZER;CN="Ms.Jaimee":MAILTO:jaimeee at paintboxartstudio.com
END:VEVENT
BEGIN:VEVENT
DTSTART;TZID=America/Los_Angeles:20181128T150000
DTEND;TZID=America/Los_Angeles:20181128T170000
DTSTAMP:20260425T152644
CREATED:20170730T043745Z
LAST-MODIFIED:20170730T043745Z
UID:7414-1543417200-1543424400@paintboxartstudio.com
SUMMARY:Project Runway Class
DESCRIPTION:Ages 10 – 17 yrs\n\nIn this class\, our young designers will learn how to design a small collection from start to finish!\nOn the last week of class we will host a fashion show featuring the designs of our designers.\nIn this special 2 hour class students will\n* learn about color and theme development of a clothing collection\n* sketch out their own 3/4 outfit collection\n* travel to the store to select their fabrics\n* drape and create patterns for their garments\n* sew and finish their garments\n* style and create complete outfits for fashion show. \n** there will be an additional expense if the student would like extra special or expensive fabrics while on our fabric store field trip. \nPlease note that price of this 11 week class includes the fabric budget for the designer. \n\n    Purchase »
URL:http://paintboxartstudio.com/event/project-runway-class-2/
LOCATION:Paint Box Art Studio\, 1101 Washington Place\, San Diego\, CA\, 92103\, United States
CATEGORIES:Calendar,Classes,Events
ORGANIZER;CN="Ms.Jaimee":MAILTO:jaimeee at paintboxartstudio.com
END:VEVENT
BEGIN:VEVENT
DTSTART;TZID=America/Los_Angeles:20181128T163000
DTEND;TZID=America/Los_Angeles:20181128T173000
DTSTAMP:20260425T152644
CREATED:20170730T031243Z
LAST-MODIFIED:20170730T031243Z
UID:7221-1543422600-1543426200@paintboxartstudio.com
SUMMARY:Sew Club: 4:30pm
DESCRIPTION:Sew Club \nAll ages will learn about sewing while making special projects. \nEach child will work on a sewing project for their skill level. \nSewers will learn machine threading and maintenance\, pattern making and creative problem solving. \nSome projects include hand embroidery and other needlework. \nProjects include: Clothes\, bags\, plush and gifts! \n7 students max in each group. \nIncludes materials. \nSVS students use discount code SVSART. \nAfterschool pickup is available from St Vincent Aftercare. \n\n\n\n    Purchase »
URL:http://paintboxartstudio.com/event/sew-club-430pm-116/
LOCATION:Paint Box Art Studio\, 1101 Washington Place\, San Diego\, CA\, 92103\, United States
CATEGORIES:Calendar,Classes,Events,Sewing
ATTACH;FMTTYPE=image/jpeg:http://paintboxartstudio.com/wp-content/uploads/2017/07/BTS.jpg
ORGANIZER;CN="Ms.Jaimee":MAILTO:jaimeee at paintboxartstudio.com
END:VEVENT
END:VCALENDAR